{
 "currentVersion": 11.3,
 "serviceDescription": "Virginia Statewide DEM 10m Mosaic",
 "name": "public/StatewideMosaic",
 "description": "Virginia Statewide DEM 10m Mosaic",
 "extent": {
  "xmin": -84.00055555195569,
  "ymin": 35.99944444516608,
  "xmax": -73.99944444805402,
  "ymax": 40.00055555339293,
  "spatialReference": {
   "wkid": 4269,
   "latestWkid": 4269
  }
 },
 "initialExtent": {
  "xmin": -84.00055555195569,
  "ymin": 35.99944444516608,
  "xmax": -73.99944444805402,
  "ymax": 40.00055555339293,
  "spatialReference": {
   "wkid": 4269,
   "latestWkid": 4269
  }
 },
 "fullExtent": {
  "xmin": -84.00055555195569,
  "ymin": 35.99944444516608,
  "xmax": -73.99944444805402,
  "ymax": 40.00055555339293,
  "spatialReference": {
   "wkid": 4269,
   "latestWkid": 4269
  }
 },
 "sortableFields": "",
 "bandCount": 1,
 "pixelType": "U32",
 "minValues": [
  0
 ],
 "maxValues": [
  1915
 ],
 "meanValues": [
  192.01686016064
 ],
 "stdvValues": [
  278.09148925813
 ],
 "hasMultidimensions": false,
 "pixelSizeX": 9.259259252584586E-5,
 "pixelSizeY": 9.259259252584586E-5,
 "meanPixelSize": 10.30736025120623,
 "datasetFormat": "TIFF",
 "uncompressedSize": 18669658176,
 "blockWidth": 128,
 "blockHeight": 128,
 "compressionType": "LZW",
 "bandNames": [
  "Band_1"
 ],
 "allowCopy": true,
 "allowAnalysis": true,
 "itemAccess": false,
 "inspectionCapabilities": "",
 "minPixelSize": 0,
 "maxPixelSize": 0,
 "copyrightText": "",
 "serviceDataType": "esriImageServiceDataTypeGeneric",
 "serviceSourceType": "esriImageServiceSourceTypeDataset",
 "objectIdField": "",
 "fields": [],
 "capabilities": "Image,Metadata,Mensuration",
 "defaultMosaicMethod": "Center",
 "allowedMosaicMethods": "",
 "sortField": "",
 "sortValue": null,
 "sortAscending": true,
 "mosaicOperator": "First",
 "defaultCompressionQuality": 75,
 "defaultResamplingMethod": "Bilinear",
 "maxImageHeight": 4100,
 "maxImageWidth": 15000,
 "allowRasterFunction": true,
 "rasterFunctionInfos": [
  {
   "name": "None",
   "description": "",
   "help": ""
  }
 ],
 "rasterTypeInfos": [
  {
   "name": "Raster Dataset",
   "description": "Supports all ArcGIS Raster Datasets",
   "help": ""
  }
 ],
 "mensurationCapabilities": "Basic",
 "hasHistograms": true,
 "hasColormap": false,
 "hasRasterAttributeTable": false,
 "minScale": 0,
 "maxScale": 0,
 "exportTilesAllowed": false,
 "supportsStatistics": false,
 "supportsAdvancedQueries": false,
 "editFieldsInfo": null,
 "ownershipBasedAccessControlForRasters": null,
 "allowComputeTiePoints": false,
 "useStandardizedQueries": true,
 "advancedQueryCapabilities": {
  "useStandardizedQueries": true,
  "supportsStatistics": false,
  "supportsOrderBy": false,
  "supportsDistinct": false,
  "supportsPagination": false
 },
 "spatialReference": {
  "wkid": 4269,
  "latestWkid": 4269
 }
}
