View In:
ArcGIS JavaScript
ArcGIS Online Map Viewer
ArcGIS Earth
Service Description: Title: Physical Solar Model version 3 Global Horizontal Irradiance Multi-year Annual Average
Publisher: National Renewable Energy Laboratory, Golden, Colorado
Publication date: 2018
Contact: nsrdb@nrel.gov
https://nsrdb.nrel.gov
Format: raster
Projection: unprojected
Coordinate System: WGS84, EPSG: 4326
Raster value: solar irradiance in kWh/m2/year
Description: This data provides annual average daily total solar resource averaged over surface cells of 0.038 degrees in both latitude and longitude, or nominally 4 km in size. The solar radiation values represent the resource available to solar energy systems. The data was created using cloud properties which are generated using the AVHRR Pathfinder Atmospheres-Extended (PATMOS-x) algorithms. Fast all-sky radiation model for solar applications (FARMS) in conjunction with the cloud properties, and aerosol optical depth (AOD) and precipitable water vapor (PWV) from ancillary source are used to estimate direct normal irradiance (DNI) and global horizontal irradiance (GHI). The DNI and GHI are computed for clear skies using the REST2 model. For cloud scenes identified by the cloud mask, the FARMS is used to compute the GHI. The DNI for cloud scenes is then computed using the DISC model. The data are averaged from hourly model output over 19 years (1998-2016). The PATMOS-X model uses half-hourly radiance images in visible and infrared channels from the GOES series of geostationary weather satellites, daily snow cover data from the NSIDC and mixing ratio, temperature and pressure profiles from the Modern Era-Retrospective Analysis (MERRA-2) dataset. The REST2 model uses hourly aerosol optical depth from MERRA-2 to calculate GHI and DNI; water vapor and other inputs for REST 2 are obtained from the MERRA-2.
This dataset was derived from the NSRDB and may be used with the following citation:
Sengupta, M., Xie, Y., Lopez, A., Habte, A., Maclaurin, G., & Shelby, J. (2018). The national solar radiation data base (NSRDB). Renewable and Sustainable Energy Reviews, 89, 51-60.
Name: public/HorizontalIrradiance_NREL
Description: Title: Physical Solar Model version 3 Global Horizontal Irradiance Multi-year Annual Average
Publisher: National Renewable Energy Laboratory, Golden, Colorado
Publication date: 2018
Contact: nsrdb@nrel.gov
https://nsrdb.nrel.gov
Format: raster
Projection: unprojected
Coordinate System: WGS84, EPSG: 4326
Raster value: solar irradiance in kWh/m2/year
Description: This data provides annual average daily total solar resource averaged over surface cells of 0.038 degrees in both latitude and longitude, or nominally 4 km in size. The solar radiation values represent the resource available to solar energy systems. The data was created using cloud properties which are generated using the AVHRR Pathfinder Atmospheres-Extended (PATMOS-x) algorithms. Fast all-sky radiation model for solar applications (FARMS) in conjunction with the cloud properties, and aerosol optical depth (AOD) and precipitable water vapor (PWV) from ancillary source are used to estimate direct normal irradiance (DNI) and global horizontal irradiance (GHI). The DNI and GHI are computed for clear skies using the REST2 model. For cloud scenes identified by the cloud mask, the FARMS is used to compute the GHI. The DNI for cloud scenes is then computed using the DISC model. The data are averaged from hourly model output over 19 years (1998-2016). The PATMOS-X model uses half-hourly radiance images in visible and infrared channels from the GOES series of geostationary weather satellites, daily snow cover data from the NSIDC and mixing ratio, temperature and pressure profiles from the Modern Era-Retrospective Analysis (MERRA-2) dataset. The REST2 model uses hourly aerosol optical depth from MERRA-2 to calculate GHI and DNI; water vapor and other inputs for REST 2 are obtained from the MERRA-2.
This dataset was derived from the NSRDB and may be used with the following citation:
Sengupta, M., Xie, Y., Lopez, A., Habte, A., Maclaurin, G., & Shelby, J. (2018). The national solar radiation data base (NSRDB). Renewable and Sustainable Energy Reviews, 89, 51-60.
Single Fused Map Cache: false
Extent:
XMin: -83.67999999999999
YMin: 36.51
XMax: -75.24
YMax: 39.47
Spatial Reference: 4326
(4326)
LatestVCSWkid(0)
Initial Extent:
XMin: -83.67999999999999
YMin: 36.51
XMax: -75.24
YMax: 39.47
Spatial Reference: 4326
(4326)
LatestVCSWkid(0)
Full Extent:
XMin: -83.67999999999999
YMin: 36.51
XMax: -75.24
YMax: 39.47
Spatial Reference: 4326
(4326)
LatestVCSWkid(0)
Pixel Size X: 0.03999999999999999
Pixel Size Y: 0.040000000000000015
Band Count: 1
Pixel Type: F64
RasterFunction Infos: {"rasterFunctionInfos": [{
"name": "None",
"description": "",
"help": ""
}]}
Mensuration Capabilities: Basic
Inspection Capabilities:
Has Histograms: true
Has Colormap: false
Has Multi Dimensions : false
Rendering Rule:
Min Scale: 0
Max Scale: 0
Copyright Text: NREL
Service Data Type: esriImageServiceDataTypeGeneric
Min Values: 3.936
Max Values: 4.6080003
Mean Values: 4.292924235213746
Standard Deviation Values: 0.13950267436282485
Object ID Field:
Fields:
None
Default Mosaic Method: Center
Allowed Mosaic Methods:
SortField:
SortValue: null
Mosaic Operator: First
Default Compression Quality: 75
Default Resampling Method: Bilinear
Max Record Count: null
Max Image Height: 4100
Max Image Width: 15000
Max Download Image Count: null
Max Mosaic Image Count: null
Allow Raster Function: true
Allow Copy: true
Allow Analysis: true
Allow Compute TiePoints: false
Supports Statistics: false
Supports Advanced Queries: false
Use StandardizedQueries: true
Raster Type Infos:
Name: Raster Dataset
Description: Supports all ArcGIS Raster Datasets
Help:
Has Raster Attribute Table: false
Edit Fields Info: null
Ownership Based AccessControl For Rasters: null
Child Resources:
Info
Histograms
Statistics
Key Properties
Legend
Raster Function Infos
Supported Operations:
Export Image
Identify
Measure
Compute Histograms
Compute Statistics Histograms
Get Samples
Compute Class Statistics
Query Boundary
Compute Pixel Location
Compute Angles
Validate
Project