View In:
ArcGIS JavaScript
ArcGIS Online Map Viewer
ArcGIS Earth
Service Description: Virginia Statewide DEM 10m Mosaic
Name: public/StatewideMosaic
Description: Virginia Statewide DEM 10m Mosaic
Single Fused Map Cache: false
Extent:
XMin: -84.00055555195569
YMin: 35.99944444516608
XMax: -73.99944444805402
YMax: 40.00055555339293
Spatial Reference: 4269
(4269)
LatestVCSWkid(0)
Initial Extent:
XMin: -84.00055555195569
YMin: 35.99944444516608
XMax: -73.99944444805402
YMax: 40.00055555339293
Spatial Reference: 4269
(4269)
LatestVCSWkid(0)
Full Extent:
XMin: -84.00055555195569
YMin: 35.99944444516608
XMax: -73.99944444805402
YMax: 40.00055555339293
Spatial Reference: 4269
(4269)
LatestVCSWkid(0)
Pixel Size X: 9.259259252584586E-5
Pixel Size Y: 9.259259252584586E-5
Band Count: 1
Pixel Type: U32
RasterFunction Infos: {"rasterFunctionInfos": [{
"name": "None",
"description": "",
"help": ""
}]}
Mensuration Capabilities: Basic
Inspection Capabilities:
Has Histograms: true
Has Colormap: false
Has Multi Dimensions : false
Rendering Rule:
Min Scale: 0
Max Scale: 0
Copyright Text:
Service Data Type: esriImageServiceDataTypeGeneric
Min Values: 0
Max Values: 1915
Mean Values: 192.01686016064
Standard Deviation Values: 278.09148925813
Object ID Field:
Fields:
None
Default Mosaic Method: Center
Allowed Mosaic Methods:
SortField:
SortValue: null
Mosaic Operator: First
Default Compression Quality: 75
Default Resampling Method: Bilinear
Max Record Count: null
Max Image Height: 4100
Max Image Width: 15000
Max Download Image Count: null
Max Mosaic Image Count: null
Allow Raster Function: true
Allow Copy: true
Allow Analysis: true
Allow Compute TiePoints: false
Supports Statistics: false
Supports Advanced Queries: false
Use StandardizedQueries: true
Raster Type Infos:
Name: Raster Dataset
Description: Supports all ArcGIS Raster Datasets
Help:
Has Raster Attribute Table: false
Edit Fields Info: null
Ownership Based AccessControl For Rasters: null
Child Resources:
Info
Histograms
Statistics
Key Properties
Legend
Raster Function Infos
Supported Operations:
Export Image
Identify
Measure
Compute Histograms
Compute Statistics Histograms
Get Samples
Compute Class Statistics
Query Boundary
Compute Pixel Location
Compute Angles
Validate
Project